BEGIN:VCALENDAR
VERSION:2.0
PRODID:-//Century Theatre//NONSGML Events //EN
CALSCALE:GREGORIAN
X-WR-CALNAME:Century Theatre - Events
BEGIN:VEVENT
UID:80368-20260508T193000
DTSTAMP:20260424T135150
CREATED:20251223T173859
DTSTART:20260508T193000
SUMMARY:The Hound of the Baskervilles
LOCATION:Century Theatre
ORGANIZER:
END:VEVENT
END:VCALENDAR