BEGIN:VCALENDAR
VERSION:2.0
PRODID:-//Century Theatre//NONSGML Events //EN
CALSCALE:GREGORIAN
X-WR-CALNAME:Century Theatre - Events
BEGIN:VEVENT
UID:80372-20260606T193000
DTSTAMP:20260425T201311
CREATED:20251223T174537
DTSTART:20260606T193000
SUMMARY:Undercover Cliff
LOCATION:Century Theatre
ORGANIZER:
END:VEVENT
END:VCALENDAR